BEGIN:VCALENDAR
VERSION:2.0
PRODID:-//LASAOR - ECPv5.14.1//NONSGML v1.0//EN
CALSCALE:GREGORIAN
METHOD:PUBLISH
X-WR-CALNAME:LASAOR
X-ORIGINAL-URL:https://lasaor.com
X-WR-CALDESC:Events for LASAOR
REFRESH-INTERVAL;VALUE=DURATION:PT1H
X-Robots-Tag:noindex
X-PUBLISHED-TTL:PT1H
BEGIN:VTIMEZONE
TZID:America/Los_Angeles
BEGIN:DAYLIGHT
TZOFFSETFROM:-0800
TZOFFSETTO:-0700
TZNAME:PDT
DTSTART:20250309T100000
END:DAYLIGHT
BEGIN:STANDARD
TZOFFSETFROM:-0700
TZOFFSETTO:-0800
TZNAME:PST
DTSTART:20251102T090000
END:STANDARD
END:VTIMEZONE
BEGIN:VEVENT
DTSTART;TZID=America/Los_Angeles:20250410T100000
DTEND;TZID=America/Los_Angeles:20250410T113000
DTSTAMP:20260424T012933
CREATED:20250410T060217Z
LAST-MODIFIED:20250410T060217Z
UID:15105-1744279200-1744284600@lasaor.com
SUMMARY:Monarch Mortgage Programs & Products
DESCRIPTION:This class will cover over 20 different Programs and Products to help you better understand how they work\, how to qualify\, and how to help your clients get approved to purchase and more…
URL:https://lasaor.com/event/monarch-mortgage-programs-products/
LOCATION:Zoom\, Online
ATTACH;FMTTYPE=image/jpeg:https://lasaor.com/wp-content/uploads/2025/04/april-10-monarch-mortgage.jpg
END:VEVENT
END:VCALENDAR