BEGIN:VCALENDAR
VERSION:2.0
PRODID:-//LASAOR - ECPv5.14.1//NONSGML v1.0//EN
CALSCALE:GREGORIAN
METHOD:PUBLISH
X-WR-CALNAME:LASAOR
X-ORIGINAL-URL:https://lasaor.com
X-WR-CALDESC:Events for LASAOR
REFRESH-INTERVAL;VALUE=DURATION:PT1H
X-Robots-Tag:noindex
X-PUBLISHED-TTL:PT1H
BEGIN:VTIMEZONE
TZID:America/Los_Angeles
BEGIN:DAYLIGHT
TZOFFSETFROM:-0800
TZOFFSETTO:-0700
TZNAME:PDT
DTSTART:20250309T100000
END:DAYLIGHT
BEGIN:STANDARD
TZOFFSETFROM:-0700
TZOFFSETTO:-0800
TZNAME:PST
DTSTART:20251102T090000
END:STANDARD
END:VTIMEZONE
BEGIN:VEVENT
DTSTART;TZID=America/Los_Angeles:20251212T113000
DTEND;TZID=America/Los_Angeles:20251212T140000
DTSTAMP:20260423T140749
CREATED:20260111T212617Z
LAST-MODIFIED:20260111T212617Z
UID:15222-1765539000-1765548000@lasaor.com
SUMMARY:Broker/Manager Luncheon - Legislative Updates & More Where Brokerage Leaders Gain Insight and Navigate What’s Next.
DESCRIPTION:Join us at the Proud Bird for an informative luncheon designed to help brokerage leaders stay ahead of legislative changes\, industry updates\, and strategic insights that impact our real estate community. This gathering offers valuable learning and networking opportunities for brokers\, managers\, and leaders across the industry.
URL:https://lasaor.com/event/broker-manager-luncheon-legislative-updates-more-where-brokerage-leaders-gain-insight-and-navigate-whats-next/
LOCATION:CA
ATTACH;FMTTYPE=image/jpeg:https://lasaor.com/wp-content/uploads/2026/01/12-12-25_manager_luncheon.jpg
END:VEVENT
END:VCALENDAR