BEGIN:VCALENDAR
VERSION:2.0
PRODID:-//LASAOR - ECPv5.14.1//NONSGML v1.0//EN
CALSCALE:GREGORIAN
METHOD:PUBLISH
X-WR-CALNAME:LASAOR
X-ORIGINAL-URL:https://lasaor.com
X-WR-CALDESC:Events for LASAOR
REFRESH-INTERVAL;VALUE=DURATION:PT1H
X-Robots-Tag:noindex
X-PUBLISHED-TTL:PT1H
BEGIN:VTIMEZONE
TZID:America/Los_Angeles
BEGIN:DAYLIGHT
TZOFFSETFROM:-0800
TZOFFSETTO:-0700
TZNAME:PDT
DTSTART:20260308T100000
END:DAYLIGHT
BEGIN:STANDARD
TZOFFSETFROM:-0700
TZOFFSETTO:-0800
TZNAME:PST
DTSTART:20261101T090000
END:STANDARD
END:VTIMEZONE
BEGIN:VEVENT
DTSTART;VALUE=DATE:20260414
DTEND;VALUE=DATE:20260415
DTSTAMP:20260423T080730
CREATED:20260111T222559Z
LAST-MODIFIED:20260114T145859Z
UID:15241-1776124800-1776211199@lasaor.com
SUMMARY:C.A.R. Fair Housing Day
DESCRIPTION:California Association of REALTORS® Fair Housing Day is a must-attend annual event for REALTORS® committed to advancing fair housing and expanding access to homeownership across California.\nJoin industry leaders\, economists\, advocates\, and policy experts for timely\, in-depth discussions on housing affordability\, supply challenges\, artificial intelligence in real estate\, climate impacts\, housing insecurity\, and strategies to address discrimination. Gain practical insights\, learn about innovative programs supporting diverse homebuyers\, and be part of the critical conversations shaping the future of fair housing. REALTORS® are encouraged to attend and take an active role in making the dream of homeownership possible for all Californians.
URL:https://lasaor.com/event/c-a-r-fair-housing-day/
LOCATION:CA
ATTACH;FMTTYPE=image/jpeg:https://lasaor.com/wp-content/uploads/2026/01/04-14-26_fair-housing-day.jpg
END:VEVENT
BEGIN:VEVENT
DTSTART;TZID=America/Los_Angeles:20260414T090000
DTEND;TZID=America/Los_Angeles:20260414T103000
DTSTAMP:20260423T080730
CREATED:20260114T150324Z
LAST-MODIFIED:20260114T151036Z
UID:15262-1776157200-1776162600@lasaor.com
SUMMARY:LASAOR Networking Meeting
DESCRIPTION:Join Los Angeles Southwest REALTORS® for our Monthly Networking & Speaker Series—a high-value forum for REALTORS® committed to growth in the competitive Los Angeles real estate market.
URL:https://lasaor.com/event/lasaor-networking-meeting-4-14/
LOCATION:6780 La Tijera Blvd\, 6780 La Tijera Blvd\, Suite 109\, Los Angeles\, CA\, 90045\, United States
ATTACH;FMTTYPE=image/jpeg:https://lasaor.com/wp-content/uploads/2026/01/monthly-networking-meeting.jpg
END:VEVENT
END:VCALENDAR