BEGIN:VCALENDAR
VERSION:2.0
PRODID:-//LASAOR - ECPv5.14.1//NONSGML v1.0//EN
CALSCALE:GREGORIAN
METHOD:PUBLISH
X-WR-CALNAME:LASAOR
X-ORIGINAL-URL:https://lasaor.com
X-WR-CALDESC:Events for LASAOR
REFRESH-INTERVAL;VALUE=DURATION:PT1H
X-Robots-Tag:noindex
X-PUBLISHED-TTL:PT1H
BEGIN:VTIMEZONE
TZID:America/Los_Angeles
BEGIN:DAYLIGHT
TZOFFSETFROM:-0800
TZOFFSETTO:-0700
TZNAME:PDT
DTSTART:20260308T100000
END:DAYLIGHT
BEGIN:STANDARD
TZOFFSETFROM:-0700
TZOFFSETTO:-0800
TZNAME:PST
DTSTART:20261101T090000
END:STANDARD
END:VTIMEZONE
BEGIN:VEVENT
DTSTART;VALUE=DATE:20260613
DTEND;VALUE=DATE:20260619
DTSTAMP:20260423T110744
CREATED:20260111T223249Z
LAST-MODIFIED:20260111T223249Z
UID:15250-1781308800-1781827199@lasaor.com
SUMMARY:NAR REALTORS® Legislative Meetings\, Washington\, D.C.
DESCRIPTION:The REALTORS® Legislative Meetings bring together members of the National Association of REALTORS® for the industry’s most important advocacy and policy event.\nREALTORS® meet directly with members of Congress and federal regulators to advance public policies that support homeownership\, protect consumers\, and strengthen local and national real estate markets. The meetings also convene NAR leadership\, committees\, and regional representatives to conduct governance and set key policy priorities. Members are encouraged to attend\, engage in advocacy\, and help shape the future of the real estate industry.
URL:https://lasaor.com/event/nar-realtors-legislative-meetings-washington-d-c/
LOCATION:CA
ATTACH;FMTTYPE=image/jpeg:https://lasaor.com/wp-content/uploads/2026/01/kegislative-meetings-2026.jpg
END:VEVENT
END:VCALENDAR