BEGIN:VCALENDAR
VERSION:2.0
PRODID:-//LASAOR - ECPv5.14.1//NONSGML v1.0//EN
CALSCALE:GREGORIAN
METHOD:PUBLISH
X-WR-CALNAME:LASAOR
X-ORIGINAL-URL:https://lasaor.com
X-WR-CALDESC:Events for LASAOR
REFRESH-INTERVAL;VALUE=DURATION:PT1H
X-Robots-Tag:noindex
X-PUBLISHED-TTL:PT1H
BEGIN:VTIMEZONE
TZID:America/Los_Angeles
BEGIN:DAYLIGHT
TZOFFSETFROM:-0800
TZOFFSETTO:-0700
TZNAME:PDT
DTSTART:20260308T100000
END:DAYLIGHT
BEGIN:STANDARD
TZOFFSETFROM:-0700
TZOFFSETTO:-0800
TZNAME:PST
DTSTART:20261101T090000
END:STANDARD
END:VTIMEZONE
BEGIN:VEVENT
DTSTART;TZID=America/Los_Angeles:20260714T090000
DTEND;TZID=America/Los_Angeles:20260714T103000
DTSTAMP:20260423T123039
CREATED:20260114T151506Z
LAST-MODIFIED:20260114T151506Z
UID:15272-1784019600-1784025000@lasaor.com
SUMMARY:LASAOR Networking Meeting
DESCRIPTION:Join Los Angeles Southwest REALTORS® for our Monthly Networking & Speaker Series—a high-value forum for REALTORS® committed to growth in the competitive Los Angeles real estate market.
URL:https://lasaor.com/event/lasaor-networking-meeting-7-14/
LOCATION:6780 La Tijera Blvd\, 6780 La Tijera Blvd\, Suite 109\, Los Angeles\, CA\, 90045\, United States
ATTACH;FMTTYPE=image/jpeg:https://lasaor.com/wp-content/uploads/2026/01/monthly-networking-meeting.jpg
END:VEVENT
END:VCALENDAR