BEGIN:VCALENDAR
VERSION:2.0
PRODID:-//LASAOR - ECPv5.14.1//NONSGML v1.0//EN
CALSCALE:GREGORIAN
METHOD:PUBLISH
X-WR-CALNAME:LASAOR
X-ORIGINAL-URL:https://lasaor.com
X-WR-CALDESC:Events for LASAOR
REFRESH-INTERVAL;VALUE=DURATION:PT1H
X-Robots-Tag:noindex
X-PUBLISHED-TTL:PT1H
BEGIN:VTIMEZONE
TZID:America/Los_Angeles
BEGIN:DAYLIGHT
TZOFFSETFROM:-0800
TZOFFSETTO:-0700
TZNAME:PDT
DTSTART:20240310T100000
END:DAYLIGHT
BEGIN:STANDARD
TZOFFSETFROM:-0700
TZOFFSETTO:-0800
TZNAME:PST
DTSTART:20241103T090000
END:STANDARD
END:VTIMEZONE
BEGIN:VEVENT
DTSTART;TZID=America/Los_Angeles:20240618T090000
DTEND;TZID=America/Los_Angeles:20240618T110000
DTSTAMP:20260424T161902
CREATED:20240605T193206Z
LAST-MODIFIED:20240605T193315Z
UID:14971-1718701200-1718708400@lasaor.com
SUMMARY:HUD - Esther Yamashiro & Patricia Aguilar
DESCRIPTION:Discover Key Insights from Housing Experts! \n\n\nJoin us for an insightful HUD session on Tuesday\, June 18\, 2024\, from 9:00 AM to 11:00 AM at the Wateridge Conference Room in Los Angeles!  Learn from Housing Program Officers Esther Yamashiro and Patricia Aguilar as they dive into crucial topics like laws and legislations\, transaction concessions\, and the impact of NAR settlement agreements.\n\n\n\n\nLocation: Wateridge Conference Room\, 5120 Goldleaf Circle\, Los Angeles\, CA 90056\n\n\n\n Admission is FREE for all agents! But hurry\, space is limited. Don’t forget to register and secure your spot.\n\n\n\nSee you there!
URL:https://lasaor.com/event/hud-esther-yamashiro-patricia-aguilar/
LOCATION:Wateridge Conference Room\, 5120 Goldleaf Circle\, Los Angeles\, CA\, 90056\, United States
ATTACH;FMTTYPE=image/jpeg:https://lasaor.com/wp-content/uploads/2024/06/PHOTO-2024-05-24-12-21-51.jpg
END:VEVENT
BEGIN:VEVENT
DTSTART;TZID=America/Los_Angeles:20240626T100000
DTEND;TZID=America/Los_Angeles:20240626T120000
DTSTAMP:20260424T161902
CREATED:20240605T192635Z
LAST-MODIFIED:20240605T193407Z
UID:14967-1719396000-1719403200@lasaor.com
SUMMARY:How to List Buyers - Mel Wilson\, MRE
DESCRIPTION:THE CLASS HAS BEEN RESCHEDULED TO JUNE 26\, 2024\n\n\nUnfortunately\, our instructor has fallen ill and is unable to conduct the class as planned. The health and well-being of our instructors are of utmost importance to us\, and we want to ensure he has the necessary time to recover fully.\n\n\nTherefore\, the class has been rescheduled to take place on Wednesday\, June 26\, 2024\, 10am-12 noon.\n\n\nWe understand that this change may inconvenience your schedule\, and we sincerely apologize for any disruption it may cause.
URL:https://lasaor.com/event/how-to-list-buyers/
LOCATION:6820 La Tijera Blvd #109\, 6820 La Tijera Blvd #109\, Los Angeles\, 90045\, United States
ATTACH;FMTTYPE=image/jpeg:https://lasaor.com/wp-content/uploads/2024/06/PHOTO-2024-05-22-09-26-22.jpg
END:VEVENT
END:VCALENDAR