BEGIN:VCALENDAR
VERSION:2.0
PRODID:-//LASAOR - ECPv5.14.1//NONSGML v1.0//EN
CALSCALE:GREGORIAN
METHOD:PUBLISH
X-WR-CALNAME:LASAOR
X-ORIGINAL-URL:https://lasaor.com
X-WR-CALDESC:Events for LASAOR
REFRESH-INTERVAL;VALUE=DURATION:PT1H
X-Robots-Tag:noindex
X-PUBLISHED-TTL:PT1H
BEGIN:VTIMEZONE
TZID:America/Los_Angeles
BEGIN:DAYLIGHT
TZOFFSETFROM:-0800
TZOFFSETTO:-0700
TZNAME:PDT
DTSTART:20240310T100000
END:DAYLIGHT
BEGIN:STANDARD
TZOFFSETFROM:-0700
TZOFFSETTO:-0800
TZNAME:PST
DTSTART:20241103T090000
END:STANDARD
END:VTIMEZONE
BEGIN:VEVENT
DTSTART;TZID=America/Los_Angeles:20241112T090000
DTEND;TZID=America/Los_Angeles:20241112T110000
DTSTAMP:20260424T073341
CREATED:20241105T070429Z
LAST-MODIFIED:20241105T070429Z
UID:15018-1731402000-1731409200@lasaor.com
SUMMARY:November Membership Meeting: Sustainable Insurance Strategy
DESCRIPTION:We’re excited to invite you to our November Membership Meeting! Join us on Tuesday\, November 12\, 2024\, for an in-depth look at a Hot Button Issue Related to California Insurance: Sustainable Insurance Strategy. \nOur guest speaker\, Brenda Caloca from the California Department of Insurance (CDI)\, brings over a decade of expertise in consumer protection and public outreach. She’ll be covering critical topics on navigating the insurance landscape\, insurer solvency\, and CDI’s consumer protection efforts. \nDon’t miss this opportunity to stay informed and gain valuable insights into California’s insurance landscape.
URL:https://lasaor.com/event/november-membership-meeting-sustainable-insurance-strategy/
LOCATION:Wateridge Conference Room\, 5120 Goldleaf Circle\, Los Angeles\, CA\, 90056\, United States
ATTACH;FMTTYPE=image/jpeg:https://lasaor.com/wp-content/uploads/2022/01/LASAOR-DEPT-OF-INSURANCE-NOV-12-MEETING-web.jpg
END:VEVENT
END:VCALENDAR