BEGIN:VCALENDAR
VERSION:2.0
PRODID:-//LASAOR - ECPv5.14.1//NONSGML v1.0//EN
CALSCALE:GREGORIAN
METHOD:PUBLISH
X-WR-CALNAME:LASAOR
X-ORIGINAL-URL:https://lasaor.com
X-WR-CALDESC:Events for LASAOR
REFRESH-INTERVAL;VALUE=DURATION:PT1H
X-Robots-Tag:noindex
X-PUBLISHED-TTL:PT1H
BEGIN:VTIMEZONE
TZID:America/Los_Angeles
BEGIN:DAYLIGHT
TZOFFSETFROM:-0800
TZOFFSETTO:-0700
TZNAME:PDT
DTSTART:20260308T100000
END:DAYLIGHT
BEGIN:STANDARD
TZOFFSETFROM:-0700
TZOFFSETTO:-0800
TZNAME:PST
DTSTART:20261101T090000
END:STANDARD
END:VTIMEZONE
BEGIN:VEVENT
DTSTART;TZID=America/Los_Angeles:20260310T090000
DTEND;TZID=America/Los_Angeles:20260310T103000
DTSTAMP:20260423T080859
CREATED:20260114T150725Z
LAST-MODIFIED:20260114T150725Z
UID:15264-1773133200-1773138600@lasaor.com
SUMMARY:LASAOR Networking Meeting
DESCRIPTION:Join Los Angeles Southwest REALTORS® for our Monthly Networking & Speaker Series—a high-value forum for REALTORS® committed to growth in the competitive Los Angeles real estate market.
URL:https://lasaor.com/event/lasaor-networking-meeting-3-10/
LOCATION:6780 La Tijera Blvd\, 6780 La Tijera Blvd\, Suite 109\, Los Angeles\, CA\, 90045\, United States
ATTACH;FMTTYPE=image/jpeg:https://lasaor.com/wp-content/uploads/2026/01/monthly-networking-meeting.jpg
END:VEVENT
BEGIN:VEVENT
DTSTART;TZID=America/Los_Angeles:20260317T090000
DTEND;TZID=America/Los_Angeles:20260317T100000
DTSTAMP:20260423T080859
CREATED:20260114T152807Z
LAST-MODIFIED:20260114T152807Z
UID:15285-1773738000-1773741600@lasaor.com
SUMMARY:LASAOR Board of Directors Meeting
DESCRIPTION:The Los Angeles Southwest Association of REALTORS® Board of Directors Meeting is a closed meeting for Directors and invited participants only. The Board conducts Association business\, provides strategic and fiduciary oversight\, and addresses matters impacting the organization and its members.
URL:https://lasaor.com/event/lasaor-board-of-directors-meeting-3-17/
LOCATION:6780 La Tijera Blvd\, 6780 La Tijera Blvd\, Suite 109\, Los Angeles\, CA\, 90045\, United States
ATTACH;FMTTYPE=image/jpeg:https://lasaor.com/wp-content/uploads/2022/01/Board-of-Directors-Meeting-Image_web.jpg
END:VEVENT
BEGIN:VEVENT
DTSTART;VALUE=DATE:20260324
DTEND;VALUE=DATE:20260328
DTSTAMP:20260423T080859
CREATED:20260111T222409Z
LAST-MODIFIED:20260111T222409Z
UID:15238-1774310400-1774655999@lasaor.com
SUMMARY:AE Institute\, Minneapolis\, MN
DESCRIPTION:The AE Institute takes place in Minneapolis\, MN\, Tuesday\, March 24\, through Friday March 27\, 2026. It is the premier professional development event for local and state REALTOR® association and MLS staff. The Institute offers programming for all staff levels of the REALTOR® organization\, from newer AEs and those who manage small associations to veteran AEs. The AE Institute raises association executive awareness of real estate industry issues and provides professional development opportunities so that AEs across the country can better serve the REALTOR® organization and its members.
URL:https://lasaor.com/event/ae-institute-minneapolis-mn/
LOCATION:CA
ATTACH;FMTTYPE=image/jpeg:https://lasaor.com/wp-content/uploads/2026/01/03-27-26_ae-institute.jpg
END:VEVENT
END:VCALENDAR