BEGIN:VCALENDAR
VERSION:2.0
PRODID:-//LASAOR - ECPv5.14.1//NONSGML v1.0//EN
CALSCALE:GREGORIAN
METHOD:PUBLISH
X-WR-CALNAME:LASAOR
X-ORIGINAL-URL:https://lasaor.com
X-WR-CALDESC:Events for LASAOR
REFRESH-INTERVAL;VALUE=DURATION:PT1H
X-Robots-Tag:noindex
X-PUBLISHED-TTL:PT1H
BEGIN:VTIMEZONE
TZID:America/Los_Angeles
BEGIN:DAYLIGHT
TZOFFSETFROM:-0800
TZOFFSETTO:-0700
TZNAME:PDT
DTSTART:20260308T100000
END:DAYLIGHT
BEGIN:STANDARD
TZOFFSETFROM:-0700
TZOFFSETTO:-0800
TZNAME:PST
DTSTART:20261101T090000
END:STANDARD
END:VTIMEZONE
BEGIN:VEVENT
DTSTART;VALUE=DATE:20260427
DTEND;VALUE=DATE:20260502
DTSTAMP:20260423T080904
CREATED:20260111T222803Z
LAST-MODIFIED:20260111T222803Z
UID:15244-1777248000-1777679999@lasaor.com
SUMMARY:C.A.R. Spring Business Meetings\, Sacramento\, CA
DESCRIPTION:The California Association of REALTORS® 2026 Business Meetings will take place April 27 through May 1\, 2026\, in Sacramento.\nThese meetings convene REALTOR® leaders from across California for governance\, education\, advocacy\, and strategic discussions that inform statewide policy and priorities.
URL:https://lasaor.com/event/c-a-r-spring-business-meetings-sacramento-ca/
LOCATION:CA
ATTACH;FMTTYPE=image/jpeg:https://lasaor.com/wp-content/uploads/2026/01/car-spring-meetings.jpg
END:VEVENT
BEGIN:VEVENT
DTSTART;TZID=America/Los_Angeles:20260512T090000
DTEND;TZID=America/Los_Angeles:20260512T103000
DTSTAMP:20260423T080904
CREATED:20260114T151201Z
LAST-MODIFIED:20260114T151201Z
UID:15268-1778576400-1778581800@lasaor.com
SUMMARY:LASAOR Networking Meeting
DESCRIPTION:Join Los Angeles Southwest REALTORS® for our Monthly Networking & Speaker Series—a high-value forum for REALTORS® committed to growth in the competitive Los Angeles real estate market.
URL:https://lasaor.com/event/lasaor-networking-meeting-5-12/
LOCATION:6780 La Tijera Blvd\, 6780 La Tijera Blvd\, Suite 109\, Los Angeles\, CA\, 90045\, United States
ATTACH;FMTTYPE=image/jpeg:https://lasaor.com/wp-content/uploads/2026/01/monthly-networking-meeting.jpg
END:VEVENT
BEGIN:VEVENT
DTSTART;TZID=America/Los_Angeles:20260519T090000
DTEND;TZID=America/Los_Angeles:20260519T103000
DTSTAMP:20260423T080904
CREATED:20260114T152908Z
LAST-MODIFIED:20260114T152908Z
UID:15287-1779181200-1779186600@lasaor.com
SUMMARY:LASAOR Board of Directors Meeting
DESCRIPTION:The Los Angeles Southwest Association of REALTORS® Board of Directors Meeting is a closed meeting for Directors and invited participants only. The Board conducts Association business\, provides strategic and fiduciary oversight\, and addresses matters impacting the organization and its members.
URL:https://lasaor.com/event/lasaor-board-of-directors-meeting-5-19/
LOCATION:6780 La Tijera Blvd\, 6780 La Tijera Blvd\, Suite 109\, Los Angeles\, CA\, 90045\, United States
ATTACH;FMTTYPE=image/jpeg:https://lasaor.com/wp-content/uploads/2022/01/Board-of-Directors-Meeting-Image_web.jpg
END:VEVENT
END:VCALENDAR